Workbook
Name 格付け: [1]マスタ!$F$4:$F$9
Name 関係: #REF!
Name 決定事項: [1]マスタ!$D$4:$D$11
Name 世帯類型: [1]マスタ!$E$4:$E$8
Name 担当班: [1]マスタ!$A$4:$A$14
Name 調査先登録__この文字をクリック: #REF!,#REF!
Name 不要: #REF!
Name 問合せ先: [1]マスタ!$C$4:$C$6
Name 要: INDIRECT(#REF!)
Name 要1: INDIRECT(#REF!)
Name 要2: INDIRECT(#REF!)

Sheet 世帯情報入力
A1: 担当者名 | B1: 担当班 | C1: 内線 | D1: 問合せ先 | I1: 電話番号
A2: 廣瀬 | B2: 西部保護第１班 | D2: 大分市福祉事務所 生活福祉西部事務所 | I2: =VLOOKUP(B2,[1]マスタ!A4:B14,2,FALSE) -> 097-541-1259
A3: 所長名 | C3: 課長名 | E3: 入力シート（色付き部分 に入力してください）
A4: 田崎 敢 | C4: 尾上 典章
A6: シート選択 | H6: 管理用
B8: ※※※ | C8: 開始・廃止・世帯員認定・世帯員削除・停止・停止解除用入力表
A9: 世帯情報
A10: ※裏面については直接原本にご記載いただく、もしくは作成したものの添付をお願いします。
A11: 被保護者情報
A12: 氏名
A13: 氏名カナ
A14: 生年月日
A15: 年齢
A16: 住 所
A17: 前住所 | C17: 郵便番号
C18: 住 所
A19: 前々住所 | C19: 郵便番号
C20: 住 所
A21: 市外からの転入 | C21: 転入年月日 | F21: 前住所※市外
A23: 基礎年金番号 | F23: 国保被保番号
A24: ="変更（"&(#REF!)&"）理由" -> #REF!
A27: 調査関係
A28: 国保年金課調査 | C28: 文書番号 | D28: 年 | E28: 月 | F28: 日 | G28: 国保・税制以外の調査 についてはこちらから
A29: 税制課調査 | C29: 8000 | D29: 5 | E29: 1 | F29: 1
A30: 通知関係
A31: 各課への通知番号 | C31: 地区担当名 | D31: 地区担当ｺｰﾄﾞ | F31: 各課通知へ | H31: 民生委員通知へ
C32: =A2 -> 廣瀬 | D32: 2170
A33: "民生委員名簿"の 左端番号を入力します | C33: 623 | D33: 民生委員氏名 | E33: =VLOOKUP(C33,#REF!,3,0) -> #REF! | H33: 校区名
A34: 民生委員住所 | C34: =VLOOKUP(C33,#REF!,4,0) -> #REF! | D34: =VLOOKUP(C33,#REF!,5,0) -> #REF! | H34: 地区担当
A35: 統計
A36: 世帯類型 | C36: ケース格付け | D36: 保護の種類
D37: 生 | E37: 住 | F37: 教 | I37: 介 | J37: 医
A38: 高齢者 | C38: E | D38: =COUNTIF(#REF!,"*") -> #REF! | E38: =IF(#REF!+#REF!+#REF!=0,"",D38) -> #REF! | I38: 1 | J38: =D38 -> #REF!
A39: 担当
A40: 要否の起算日 | C40: 要否意見書の発行日
A41: 地区
I43: =IF(#REF!="開始",Q43,P43) -> #REF! | P43: =IFERROR(IF(J43="","",(DATEDIF(J43,$P$42,"Y"))),0) | Q43: =IFERROR(IF(J43="","",(DATEDIF(J43,#REF!,"Y"))),0) | T43: =Q42 -> 0
I44: =IF(#REF!="開始",Q44,P44) -> #REF! | P44: =IFERROR(IF(J44="","",(DATEDIF(J44,$P$42,"Y"))),0) | Q44: =IFERROR(IF(J44="","",(DATEDIF(J44,#REF!,"Y"))),0)
I45: =IF(#REF!="開始",Q45,P45) -> #REF! | P45: =IFERROR(IF(J45="","",(DATEDIF(J45,$P$42,"Y"))),0) | Q45: =IFERROR(IF(J45="","",(DATEDIF(J45,#REF!,"Y"))),0)
I46: =IF(#REF!="開始",Q46,P46) -> #REF! | P46: =IFERROR(IF(J46="","",(DATEDIF(J46,$P$42,"Y"))),0) | Q46: =IFERROR(IF(J46="","",(DATEDIF(J46,#REF!,"Y"))),0)
...

Sheet Sheet1
A2: 治癒・中止
A3: 治ゆ
A4: 死亡
A5: 中止
A8: 入院
A9: 入院外
A11: 要する
A12: 要しない

Sheet 表面
W1: (表面)
AE2: 福祉事務所 受付日 | AK2: 月 日
B4: 医 療 要 否 意 見 書
G6: =世帯情報入力!B41&""
L7: ※ 新規 ・ 継続 | AB7: ※受理年月日 | AI7: 年 月 日
B8: (住所) | Q8: =世帯情報入力!B16&""
B9: (カナ) | Q9: =世帯情報入力!B13&""
B10: （ | D10: =IF(世帯情報入力!B40="","",世帯情報入力!B40) | K10: 以降の） | O10: (氏名) | Q10: =世帯情報入力!B12&"" | Z10: （ | AA10: =IF(世帯情報入力!B14="","",世帯情報入力!B14) | AG10: 生まれ）( | AN10: =世帯情報入力!B15&"" | AO10: )歳に係る
C12: 医療の要否について意見を求めます。
B13: =世帯情報入力!K54&"" | P13: 御中 | AF13: =IF(世帯情報入力!D40="","",世帯情報入力!D40)
AG14: 大分市福祉事務所長
B16: 傷病名又は部位 | I16: (１) | K16: =世帯情報入力!B55&"" | R16: 初診年 月日 | W16: (１) 年 月 日 | X16: =IF(世帯情報入力!D55="","",世帯情報入力!D55) | AH16: 転 帰 | AM16: =IF(世帯情報入力!G56="","",世帯情報入力!G56)
I17: (２) | K17: =世帯情報入力!B56&"" | W17: (２) 〃 〃 〃 | X17: =IF(世帯情報入力!D56="","",世帯情報入力!D56) | AH17: 継続の
I18: (３) | K18: =世帯情報入力!B57&"" | W18: (３) 〃 〃 〃 | X18: =IF(世帯情報入力!D57="","",世帯情報入力!D57) | AH18: とき記入 | AM18: =世帯情報入力!G57&""
B19: 主要症状及び 今後の診療見込 | I19: (今後の診療見込に関連する臨床諸検査結果等を記入してください。)
I21: =世帯情報入力!B58&""
B23: 治 療 見 込 期 間 | D23: 入院外 | I23: =世帯情報入力!C59&"" | L23: か月 | O23: =世帯情報入力!E59&"" | P23: 日間 | R23: 概算医療費 | T23: （１）今回診療日 | AC23: (２)第２か月目以降 | AM23: への連絡事項 福祉事務所
X24: 以降１ヶ月間 | AE24: ６か月まで
D25: 入院 | F25: 期間 | I25: =世帯情報入力!C60&"" | L25: か月 | O25: =世帯情報入力!E60&"" | P25: 日間 | T25: 円 | AC25: 円
F28: (予定) 年月日 | I28: =IF(世帯情報入力!C61="","",世帯情報入力!C61) | T28: （入院料 円） | AC28: （入院料 円）
B31: 上記のとおり | K31: =世帯情報入力!B62&"" | O31: 医療を | U31: =世帯情報入力!D62&"" | Y31: と認めます。
AB32: =IF(世帯情報入力!B63="","",世帯情報入力!B63)
O34: 指定医療機関の所在地及び名称 | AA34: =世帯情報入力!K55&""
AA35: =世帯情報入力!K54&""
O36: 院(所) 長 | AA36: =世帯情報入力!K56&""
O37: 担 当 医 師(診 療 科 名) | Z37: =世帯情報入力!K57&"" | AI37: （ | AK37: =世帯情報入力!N57&"" | AQ37: ）
B38: ※ 嘱託医の意見 | K38: １.承認 ２.不承認 ３.本庁協議 期間（月） １ ２ ３ ４ ５ ６ （詳細意見）
AR39: ※発行取扱者
B40: ※発行年月日 | H40: 年 月 日 | Z40: 診察料・検査料請求書
B41: ※受理年月日 | H41: 年 月 日
AD42: 年 月 日
N45: 指定医療機関の所在地及び名称 | AR45: =世帯情報入力!B39&""
C47: 下記のとおり請求します。 | N47: 指定医療機関の長又は開設者氏名
B49: この券による 診 察 年 月 日 | K49: 年 月 日 | V49: ※受診者氏名
AO50: ( 歳)
B52: 請 求 額 | D52: 診 察 料 | I52: 初・再 点 | R52: (検査名)
D53: 〃 〃 | I53: 〃 〃
D54: 合計 | I54: 点 円 | R54: ※社保等負担額 | Y54: 円 | AH54: 差引計 | AL54: 円
C57: ※担当員 | H57: =世帯情報入力!B39&""

Sheet 裏面
A1: （裏面）
A2: <稼働状況> | G2: =世帯情報入力!B12&""
A3: 外来通院中の15歳～64歳までの方のみ記載してください
A4: 該当する項目に☑し、必要事項を記載してください。
A5: 稼働可否 | B5: 病状に応じた労働内容
A6: 一般就労可能 | C6: フルタイムの勤務は可能
C7: フルタイムやアルバイトなどは可能であるが、体力的・作業的に軽微なもの
C8: 稼働日数や時間に配慮し、体力的・作業的に軽微なもの
C9: 就労移行支援事業所（※）
A10: 福祉的就労 | C10: 就労継続支援事業所（A型）
C11: 就労継続支援事業所（B型）
C12: その他（ ）
A13: 就労不可 | B13: 理由を記載ください
A15: ※一般就労等への移行に向けた作業や実習、適正に合った職場探しなどを支援する事業所
A17: <他法他施策の活用>
A18: 各項目の指定医療機関となっている場合、その可否について☑し、必要事項を記載してください。
A19: ※既に活用済の場合や該当項目の無い場合は記載不要です
A20: 身体障害者手帳 | C20: 可の場合 | D20: ( 肢体・ 心臓・ 腎臓・ 視覚 | G20: ・ その他（ ）)
C21: 否の場合 | D21: 理由（ ）
A22: 自立支援医療 （更生・育成医療） | C22: 可の場合 | D22: 手術治療内容等（ ）
C23: 否の場合 | D23: 理由（ ）
A24: 自立支援医療 （精神通院医療） | C24: 可の場合
C25: 否の場合 | D25: 理由（ ）
A26: 指定難病 小児慢性医療 | C26: 可の場合 | D26: 疾患名（ ）
C27: 否の場合 | D27: 理由（ ）
A28: 感染症法 (結核の場合のみ記入要） | C28: 可の場合 | D28: （ 第37条 ・ 第37条の２ ）
C29: 否の場合 | D29: 理由（ ）
A31: ・後発医薬品（ジェネリック）の使用について
A32: 原則使用となっているジェネリックを使用できない場合、その理由について記載ください
A33: ジェネリックの使用 不可の理由
